Package: IMPCdata Version: 1.36.0 Command: /home/biocbuild/bbs-3.17-bioc/R/bin/R CMD build --keep-empty-dirs --no-resave-data IMPCdata StartedAt: 2023-10-15 17:09:45 -0400 (Sun, 15 Oct 2023) EndedAt: 2023-10-15 17:11:00 -0400 (Sun, 15 Oct 2023) EllapsedTime: 75.2 seconds RetCode: 0 Status: OK PackageFile: IMPCdata_1.36.0.tar.gz PackageFileSize: 107.5 KiB