Package: IMPCdata Version: 1.36.0 Command: /Library/Frameworks/R.framework/Resources/bin/R CMD check --install=check:IMPCdata.install-out.txt --library=/Library/Frameworks/R.framework/Resources/library --no-vignettes --timings IMPCdata_1.36.0.tar.gz StartedAt: 2023-10-16 02:51:55 -0400 (Mon, 16 Oct 2023) EndedAt: 2023-10-16 02:54:07 -0400 (Mon, 16 Oct 2023) EllapsedTime: 131.8 seconds RetCode: 0 Status: OK CheckDir: IMPCdata.Rcheck Warnings: 0