Package: IHW Version: 1.28.0 Command: F:\biocbuild\bbs-3.17-bioc\R\bin\R.exe CMD INSTALL IHW StartedAt: 2023-10-15 16:01:20 -0400 (Sun, 15 Oct 2023) EndedAt: 2023-10-15 16:01:30 -0400 (Sun, 15 Oct 2023) EllapsedTime: 10.1 seconds RetCode: 0 Status: OK