Package: IHW Version: 1.28.0 Command: F:\biocbuild\bbs-3.17-bioc\R\bin\R.exe CMD check --no-multiarch --install=check:IHW.install-out.txt --library=F:\biocbuild\bbs-3.17-bioc\R\library --no-vignettes --timings IHW_1.28.0.tar.gz StartedAt: 2023-10-12 03:00:27 -0400 (Thu, 12 Oct 2023) EndedAt: 2023-10-12 03:03:17 -0400 (Thu, 12 Oct 2023) EllapsedTime: 169.5 seconds RetCode: 1 Status: ERROR CheckDir: IHW.Rcheck Warnings: NA