Package: IHW Version: 1.28.0 Command: rm -rf IHW.buildbin-libdir && mkdir IHW.buildbin-libdir && F:\biocbuild\bbs-3.17-bioc\R\bin\R.exe CMD INSTALL --build --library=IHW.buildbin-libdir IHW_1.28.0.tar.gz StartedAt: 2023-10-12 08:43:18 -0400 (Thu, 12 Oct 2023) EndedAt: 2023-10-12 08:43:32 -0400 (Thu, 12 Oct 2023) EllapsedTime: 14.6 seconds RetCode: 0 Status: OK PackageFile: IHW_1.28.0.zip PackageFileSize: 1.628 MiB