Package: IHW Version: 1.28.0 Command: /Library/Frameworks/R.framework/Resources/bin/R CMD build --keep-empty-dirs --no-resave-data IHW StartedAt: 2023-10-15 18:58:32 -0400 (Sun, 15 Oct 2023) EndedAt: 2023-10-15 19:04:38 -0400 (Sun, 15 Oct 2023) EllapsedTime: 366.4 seconds RetCode: 0 Status: OK PackageFile: IHW_1.28.0.tar.gz PackageFileSize: 3.59 MiB