Package: IHW Version: 1.28.0 Command: rm -rf IHW.buildbin-libdir && mkdir IHW.buildbin-libdir && /Users/biocbuild/BBS/utils/build-universal.sh IHW_1.28.0.tar.gz /Library/Frameworks/R.framework/Resources/bin/R IHW.buildbin-libdir StartedAt: 2023-10-16 09:34:35 -0400 (Mon, 16 Oct 2023) EndedAt: 2023-10-16 09:34:52 -0400 (Mon, 16 Oct 2023) EllapsedTime: 16.8 seconds RetCode: 0 Status: OK PackageFile: IHW_1.28.0.tgz PackageFileSize: 3.784 MiB