Package: IFAA Version: 1.2.0 Command: F:\biocbuild\bbs-3.17-bioc\R\bin\R.exe CMD check --no-multiarch --install=check:IFAA.install-out.txt --library=F:\biocbuild\bbs-3.17-bioc\R\library --no-vignettes --timings IFAA_1.2.0.tar.gz StartedAt: 2023-10-16 03:10:17 -0400 (Mon, 16 Oct 2023) EndedAt: 2023-10-16 03:17:05 -0400 (Mon, 16 Oct 2023) EllapsedTime: 408.2 seconds RetCode: 0 Status: OK CheckDir: IFAA.Rcheck Warnings: 0