Package: IFAA Version: 1.2.0 Command: chmod a+r IFAA -R && F:\biocbuild\bbs-3.17-bioc\R\bin\R.exe CMD build --keep-empty-dirs --no-resave-data IFAA StartedAt: 2023-10-15 19:54:25 -0400 (Sun, 15 Oct 2023) EndedAt: 2023-10-15 19:56:40 -0400 (Sun, 15 Oct 2023) EllapsedTime: 134.8 seconds RetCode: 0 Status: OK PackageFile: IFAA_1.2.0.tar.gz PackageFileSize: 449.3 KiB