Package: IFAA Version: 1.2.0 Command: rm -rf IFAA.buildbin-libdir && mkdir IFAA.buildbin-libdir && F:\biocbuild\bbs-3.17-bioc\R\bin\R.exe CMD INSTALL --build --library=IFAA.buildbin-libdir IFAA_1.2.0.tar.gz StartedAt: 2023-10-16 08:57:12 -0400 (Mon, 16 Oct 2023) EndedAt: 2023-10-16 08:57:46 -0400 (Mon, 16 Oct 2023) EllapsedTime: 33.6 seconds RetCode: 0 Status: OK PackageFile: IFAA_1.2.0.zip PackageFileSize: 388.5 KiB