Package: HumanTranscriptomeCompendium Version: 1.16.3 Command: F:\biocbuild\bbs-3.17-bioc\R\bin\R.exe CMD check --no-multiarch --install=check:HumanTranscriptomeCompendium.install-out.txt --library=F:\biocbuild\bbs-3.17-bioc\R\library --no-vignettes --timings HumanTranscriptomeCompendium_1.16.3.tar.gz StartedAt: 2023-10-16 03:06:31 -0400 (Mon, 16 Oct 2023) EndedAt: 2023-10-16 03:09:28 -0400 (Mon, 16 Oct 2023) EllapsedTime: 177.3 seconds RetCode: 0 Status: OK CheckDir: HumanTranscriptomeCompendium.Rcheck Warnings: 0