Package: HumanTranscriptomeCompendium Version: 1.16.3 Command: rm -rf HumanTranscriptomeCompendium.buildbin-libdir && mkdir HumanTranscriptomeCompendium.buildbin-libdir && F:\biocbuild\bbs-3.17-bioc\R\bin\R.exe CMD INSTALL --build --library=HumanTranscriptomeCompendium.buildbin-libdir HumanTranscriptomeCompendium_1.16.3.tar.gz StartedAt: 2023-10-16 08:56:35 -0400 (Mon, 16 Oct 2023) EndedAt: 2023-10-16 08:57:11 -0400 (Mon, 16 Oct 2023) EllapsedTime: 35.5 seconds RetCode: 0 Status: OK PackageFile: HumanTranscriptomeCompendium_1.16.3.zip PackageFileSize: 2.031 MiB