Package: HumanTranscriptomeCompendium Version: 1.16.3 Command: /Library/Frameworks/R.framework/Resources/bin/R CMD INSTALL HumanTranscriptomeCompendium StartedAt: 2023-10-15 15:46:55 -0400 (Sun, 15 Oct 2023) EndedAt: 2023-10-15 15:48:01 -0400 (Sun, 15 Oct 2023) EllapsedTime: 66.0 seconds RetCode: 0 Status: OK