Package: HumanTranscriptomeCompendium Version: 1.16.3 Command: /Library/Frameworks/R.framework/Resources/bin/R CMD build --keep-empty-dirs --no-resave-data HumanTranscriptomeCompendium StartedAt: 2023-10-15 18:55:41 -0400 (Sun, 15 Oct 2023) EndedAt: 2023-10-15 18:57:48 -0400 (Sun, 15 Oct 2023) EllapsedTime: 127.3 seconds RetCode: 0 Status: OK PackageFile: HumanTranscriptomeCompendium_1.16.3.tar.gz PackageFileSize: 2.723 MiB