Package: HumanTranscriptomeCompendium Version: 1.16.3 Command: rm -rf HumanTranscriptomeCompendium.buildbin-libdir && mkdir HumanTranscriptomeCompendium.buildbin-libdir && /Users/biocbuild/BBS/utils/build-universal.sh HumanTranscriptomeCompendium_1.16.3.tar.gz /Library/Frameworks/R.framework/Resources/bin/R HumanTranscriptomeCompendium.buildbin-libdir StartedAt: 2023-10-16 09:33:53 -0400 (Mon, 16 Oct 2023) EndedAt: 2023-10-16 09:35:06 -0400 (Mon, 16 Oct 2023) EllapsedTime: 72.8 seconds RetCode: 0 Status: OK PackageFile: HumanTranscriptomeCompendium_1.16.3.tgz PackageFileSize: 2.028 MiB