Package: HilbertVisGUI Version: 1.58.0 Command: /home/biocbuild/bbs-3.17-bioc/R/bin/R CMD INSTALL HilbertVisGUI StartedAt: 2023-10-15 15:09:09 -0400 (Sun, 15 Oct 2023) EndedAt: 2023-10-15 15:09:28 -0400 (Sun, 15 Oct 2023) EllapsedTime: 18.6 seconds RetCode: 0 Status: OK