Package: HilbertVis Version: 1.58.0 Command: /Library/Frameworks/R.framework/Resources/bin/R CMD build --keep-empty-dirs --no-resave-data HilbertVis StartedAt: 2023-10-15 18:53:23 -0400 (Sun, 15 Oct 2023) EndedAt: 2023-10-15 18:53:47 -0400 (Sun, 15 Oct 2023) EllapsedTime: 23.6 seconds RetCode: 0 Status: OK PackageFile: HilbertVis_1.58.0.tar.gz PackageFileSize: 1.206 MiB