Package: HilbertCurve Version: 1.30.0 Command: F:\biocbuild\bbs-3.17-bioc\R\bin\R.exe CMD check --no-multiarch --install=check:HilbertCurve.install-out.txt --library=F:\biocbuild\bbs-3.17-bioc\R\library --no-vignettes --timings HilbertCurve_1.30.0.tar.gz StartedAt: 2023-10-16 03:03:04 -0400 (Mon, 16 Oct 2023) EndedAt: 2023-10-16 03:05:11 -0400 (Mon, 16 Oct 2023) EllapsedTime: 126.7 seconds RetCode: 0 Status: OK CheckDir: HilbertCurve.Rcheck Warnings: 0