Package: HilbertCurve Version: 1.30.0 Command: chmod a+r HilbertCurve -R && F:\biocbuild\bbs-3.17-bioc\R\bin\R.exe CMD build --keep-empty-dirs --no-resave-data HilbertCurve StartedAt: 2023-10-15 19:49:12 -0400 (Sun, 15 Oct 2023) EndedAt: 2023-10-15 19:51:18 -0400 (Sun, 15 Oct 2023) EllapsedTime: 126.3 seconds RetCode: 0 Status: OK PackageFile: HilbertCurve_1.30.0.tar.gz PackageFileSize: 9.01 MiB