Package: HilbertCurve Version: 1.30.0 Command: rm -rf HilbertCurve.buildbin-libdir && mkdir HilbertCurve.buildbin-libdir && F:\biocbuild\bbs-3.17-bioc\R\bin\R.exe CMD INSTALL --build --library=HilbertCurve.buildbin-libdir HilbertCurve_1.30.0.tar.gz StartedAt: 2023-10-16 08:56:04 -0400 (Mon, 16 Oct 2023) EndedAt: 2023-10-16 08:56:31 -0400 (Mon, 16 Oct 2023) EllapsedTime: 26.8 seconds RetCode: 0 Status: OK PackageFile: HilbertCurve_1.30.0.zip PackageFileSize: 5.783 MiB