Package: HilbertCurve Version: 1.30.0 Command: /home/biocbuild/bbs-3.17-bioc/R/bin/R CMD INSTALL HilbertCurve StartedAt: 2023-10-15 15:10:57 -0400 (Sun, 15 Oct 2023) EndedAt: 2023-10-15 15:11:09 -0400 (Sun, 15 Oct 2023) EllapsedTime: 12.2 seconds RetCode: 0 Status: OK