Package: HiLDA Version: 1.14.0 Command: rm -rf HiLDA.buildbin-libdir && mkdir HiLDA.buildbin-libdir && F:\biocbuild\bbs-3.17-bioc\R\bin\R.exe CMD INSTALL --build --library=HiLDA.buildbin-libdir HiLDA_1.14.0.tar.gz StartedAt: 2023-10-16 08:56:07 -0400 (Mon, 16 Oct 2023) EndedAt: 2023-10-16 08:56:46 -0400 (Mon, 16 Oct 2023) EllapsedTime: 38.9 seconds RetCode: 0 Status: OK PackageFile: HiLDA_1.14.0.zip PackageFileSize: 2.864 MiB