Package: HiLDA Version: 1.14.0 Command: /home/biocbuild/bbs-3.17-bioc/R/bin/R CMD INSTALL HiLDA StartedAt: 2023-10-15 15:25:22 -0400 (Sun, 15 Oct 2023) EndedAt: 2023-10-15 15:25:43 -0400 (Sun, 15 Oct 2023) EllapsedTime: 20.6 seconds RetCode: 0 Status: OK