Package: HiLDA Version: 1.14.0 Command: /home/biocbuild/bbs-3.17-bioc/R/bin/R CMD check --install=check:HiLDA.install-out.txt --library=/home/biocbuild/bbs-3.17-bioc/R/site-library --timings HiLDA_1.14.0.tar.gz StartedAt: 2023-10-15 22:01:49 -0400 (Sun, 15 Oct 2023) EndedAt: 2023-10-15 22:07:44 -0400 (Sun, 15 Oct 2023) EllapsedTime: 355.2 seconds RetCode: 0 Status: OK CheckDir: HiLDA.Rcheck Warnings: 0