Package: HiLDA Version: 1.14.0 Command: /home/biocbuild/bbs-3.17-bioc/R/bin/R CMD build --keep-empty-dirs --no-resave-data HiLDA StartedAt: 2023-10-15 17:06:33 -0400 (Sun, 15 Oct 2023) EndedAt: 2023-10-15 17:09:31 -0400 (Sun, 15 Oct 2023) EllapsedTime: 177.4 seconds RetCode: 0 Status: OK PackageFile: HiLDA_1.14.0.tar.gz PackageFileSize: 2.434 MiB