Package: HiCool Version: 0.99.4 Command: F:\biocbuild\bbs-3.17-bioc\R\bin\R.exe CMD INSTALL HiCool StartedAt: 2023-04-03 16:20:45 -0400 (Mon, 03 Apr 2023) EndedAt: 2023-04-03 16:21:19 -0400 (Mon, 03 Apr 2023) EllapsedTime: 33.3 seconds RetCode: 0 Status: OK