Package: HiCool Version: 1.0.0 Command: /home/biocbuild/bbs-3.17-bioc/R/bin/R CMD build --keep-empty-dirs --no-resave-data HiCool StartedAt: 2023-10-15 17:06:15 -0400 (Sun, 15 Oct 2023) EndedAt: 2023-10-15 17:07:37 -0400 (Sun, 15 Oct 2023) EllapsedTime: 81.9 seconds RetCode: 0 Status: OK PackageFile: HiCool_1.0.0.tar.gz PackageFileSize: 701.9 KiB