Package: HiCool Version: 1.0.0 Command: /Library/Frameworks/R.framework/Resources/bin/R CMD build --keep-empty-dirs --no-resave-data HiCool StartedAt: 2023-10-15 18:52:46 -0400 (Sun, 15 Oct 2023) EndedAt: 2023-10-15 18:56:37 -0400 (Sun, 15 Oct 2023) EllapsedTime: 231.1 seconds RetCode: 0 Status: OK PackageFile: HiCool_1.0.0.tar.gz PackageFileSize: 701.8 KiB