git_url: https://git.bioconductor.org/packages/HiCool git_branch: RELEASE_3_17 git_last_commit: 11c964b git_last_commit_date: 2023-04-25 11:43:17 -0400 (Tue, 25 Apr 2023) Package: HiCool Version: 1.0.0 Maintainer: Jacques Serizay MaintainerEmail: jacquesserizay at gmail.com