Package: HiContacts Version: 1.2.0 Command: /home/biocbuild/bbs-3.17-bioc/R/bin/R CMD INSTALL HiContacts StartedAt: 2023-10-15 15:25:27 -0400 (Sun, 15 Oct 2023) EndedAt: 2023-10-15 15:25:57 -0400 (Sun, 15 Oct 2023) EllapsedTime: 30.6 seconds RetCode: 0 Status: OK