Package: HiContacts Version: 1.2.0 Command: /home/biocbuild/bbs-3.17-bioc/R/bin/R CMD build --keep-empty-dirs --no-resave-data HiContacts StartedAt: 2023-10-15 17:06:14 -0400 (Sun, 15 Oct 2023) EndedAt: 2023-10-15 17:08:24 -0400 (Sun, 15 Oct 2023) EllapsedTime: 129.6 seconds RetCode: 1 Status: ERROR PackageFile: None PackageFileSize: NA