Package: HiContacts Version: 1.2.0 Command: /Library/Frameworks/R.framework/Resources/bin/R CMD check --install=check:HiContacts.install-out.txt --library=/Library/Frameworks/R.framework/Resources/library --no-vignettes --timings HiContacts_1.2.0.tar.gz StartedAt: 2023-10-16 02:37:25 -0400 (Mon, 16 Oct 2023) EndedAt: 2023-10-16 02:57:26 -0400 (Mon, 16 Oct 2023) EllapsedTime: 1201.2 seconds RetCode: 0 Status: OK CheckDir: HiContacts.Rcheck Warnings: 0