Package: HiContacts Version: 1.2.0 Command: /Library/Frameworks/R.framework/Resources/bin/R CMD build --keep-empty-dirs --no-resave-data HiContacts StartedAt: 2023-10-15 18:52:38 -0400 (Sun, 15 Oct 2023) EndedAt: 2023-10-15 19:04:59 -0400 (Sun, 15 Oct 2023) EllapsedTime: 741.7 seconds RetCode: 0 Status: OK PackageFile: HiContacts_1.2.0.tar.gz PackageFileSize: 4.36 MiB