Package: HiCcompare Version: 1.22.1 Command: F:\biocbuild\bbs-3.17-bioc\R\bin\R.exe CMD INSTALL HiCcompare StartedAt: 2023-10-15 16:05:41 -0400 (Sun, 15 Oct 2023) EndedAt: 2023-10-15 16:06:24 -0400 (Sun, 15 Oct 2023) EllapsedTime: 43.4 seconds RetCode: 0 Status: OK