Package: HiCcompare Version: 1.22.1 Command: /home/biocbuild/bbs-3.17-bioc/R/bin/R CMD check --install=check:HiCcompare.install-out.txt --library=/home/biocbuild/bbs-3.17-bioc/R/site-library --timings HiCcompare_1.22.1.tar.gz StartedAt: 2023-10-15 21:59:37 -0400 (Sun, 15 Oct 2023) EndedAt: 2023-10-15 22:03:12 -0400 (Sun, 15 Oct 2023) EllapsedTime: 215.2 seconds RetCode: 0 Status: OK CheckDir: HiCcompare.Rcheck Warnings: 0