Package: HiCcompare Version: 1.22.1 Command: /home/biocbuild/bbs-3.17-bioc/R/bin/R CMD build --keep-empty-dirs --no-resave-data HiCcompare StartedAt: 2023-10-15 17:06:03 -0400 (Sun, 15 Oct 2023) EndedAt: 2023-10-15 17:06:55 -0400 (Sun, 15 Oct 2023) EllapsedTime: 51.9 seconds RetCode: 0 Status: OK PackageFile: HiCcompare_1.22.1.tar.gz PackageFileSize: 3.528 MiB