Package: HiCExperiment Version: 1.0.0 Command: chmod a+r HiCExperiment -R && F:\biocbuild\bbs-3.17-bioc\R\bin\R.exe CMD build --keep-empty-dirs --no-resave-data HiCExperiment StartedAt: 2023-10-15 19:48:45 -0400 (Sun, 15 Oct 2023) EndedAt: 2023-10-15 19:51:27 -0400 (Sun, 15 Oct 2023) EllapsedTime: 162.0 seconds RetCode: 0 Status: OK PackageFile: HiCExperiment_1.0.0.tar.gz PackageFileSize: 1005 KiB