Package: HiCExperiment Version: 1.0.0 Command: /Library/Frameworks/R.framework/Resources/bin/R CMD build --keep-empty-dirs --no-resave-data HiCExperiment StartedAt: 2023-10-15 18:51:58 -0400 (Sun, 15 Oct 2023) EndedAt: 2023-10-15 18:57:24 -0400 (Sun, 15 Oct 2023) EllapsedTime: 325.9 seconds RetCode: 0 Status: OK PackageFile: HiCExperiment_1.0.0.tar.gz PackageFileSize: 1004 KiB