Package: HiCDOC Version: 1.2.0 Command: /Library/Frameworks/R.framework/Resources/bin/R CMD build --keep-empty-dirs --no-resave-data HiCDOC StartedAt: 2023-10-15 18:51:56 -0400 (Sun, 15 Oct 2023) EndedAt: 2023-10-15 18:57:42 -0400 (Sun, 15 Oct 2023) EllapsedTime: 345.7 seconds RetCode: 0 Status: OK PackageFile: HiCDOC_1.2.0.tar.gz PackageFileSize: 3.396 MiB