Package: HiCDOC Version: 1.2.0 Command: rm -rf HiCDOC.buildbin-libdir && mkdir HiCDOC.buildbin-libdir && /Users/biocbuild/BBS/utils/build-universal.sh HiCDOC_1.2.0.tar.gz /Library/Frameworks/R.framework/Resources/bin/R HiCDOC.buildbin-libdir StartedAt: 2023-10-16 09:32:50 -0400 (Mon, 16 Oct 2023) EndedAt: 2023-10-16 09:35:28 -0400 (Mon, 16 Oct 2023) EllapsedTime: 158.0 seconds RetCode: 0 Status: OK PackageFile: HiCDOC_1.2.0.tgz PackageFileSize: 3.375 MiB