Package: HiCDCPlus Version: 1.8.0 Command: F:\biocbuild\bbs-3.17-bioc\R\bin\R.exe CMD INSTALL HiCDCPlus StartedAt: 2023-10-15 16:29:53 -0400 (Sun, 15 Oct 2023) EndedAt: 2023-10-15 16:30:49 -0400 (Sun, 15 Oct 2023) EllapsedTime: 55.6 seconds RetCode: 0 Status: OK