Package: HiCDCPlus Version: 1.8.0 Command: chmod a+r HiCDCPlus -R && F:\biocbuild\bbs-3.17-bioc\R\bin\R.exe CMD build --keep-empty-dirs --no-resave-data HiCDCPlus StartedAt: 2023-10-15 19:48:16 -0400 (Sun, 15 Oct 2023) EndedAt: 2023-10-15 19:50:50 -0400 (Sun, 15 Oct 2023) EllapsedTime: 153.5 seconds RetCode: 0 Status: OK PackageFile: HiCDCPlus_1.8.0.tar.gz PackageFileSize: 1.189 MiB