Package: HiCDCPlus Version: 1.8.0 Command: rm -rf HiCDCPlus.buildbin-libdir && mkdir HiCDCPlus.buildbin-libdir && F:\biocbuild\bbs-3.17-bioc\R\bin\R.exe CMD INSTALL --build --library=HiCDCPlus.buildbin-libdir HiCDCPlus_1.8.0.tar.gz StartedAt: 2023-10-16 08:55:47 -0400 (Mon, 16 Oct 2023) EndedAt: 2023-10-16 08:56:48 -0400 (Mon, 16 Oct 2023) EllapsedTime: 60.4 seconds RetCode: 0 Status: OK PackageFile: HiCDCPlus_1.8.0.zip PackageFileSize: 1.763 MiB