Package: HiCDCPlus Version: 1.8.0 Command: /Library/Frameworks/R.framework/Resources/bin/R CMD check --install=check:HiCDCPlus.install-out.txt --library=/Library/Frameworks/R.framework/Resources/library --no-vignettes --timings HiCDCPlus_1.8.0.tar.gz StartedAt: 2023-10-16 02:35:53 -0400 (Mon, 16 Oct 2023) EndedAt: 2023-10-16 02:48:55 -0400 (Mon, 16 Oct 2023) EllapsedTime: 782.1 seconds RetCode: 0 Status: OK CheckDir: HiCDCPlus.Rcheck Warnings: 0