Package: HiCBricks Version: 1.18.0 Command: chmod a+r HiCBricks -R && F:\biocbuild\bbs-3.17-bioc\R\bin\R.exe CMD build --keep-empty-dirs --no-resave-data HiCBricks StartedAt: 2023-10-15 19:48:11 -0400 (Sun, 15 Oct 2023) EndedAt: 2023-10-15 19:49:52 -0400 (Sun, 15 Oct 2023) EllapsedTime: 100.8 seconds RetCode: 0 Status: OK PackageFile: HiCBricks_1.18.0.tar.gz PackageFileSize: 4.385 MiB