Package: HiCBricks Version: 1.18.0 Command: /Library/Frameworks/R.framework/Resources/bin/R CMD build --keep-empty-dirs --no-resave-data HiCBricks StartedAt: 2023-10-15 18:51:03 -0400 (Sun, 15 Oct 2023) EndedAt: 2023-10-15 18:54:11 -0400 (Sun, 15 Oct 2023) EllapsedTime: 188.5 seconds RetCode: 0 Status: OK PackageFile: HiCBricks_1.18.0.tar.gz PackageFileSize: 5.088 MiB