Package: HiCBricks Version: 1.18.0 Command: rm -rf HiCBricks.buildbin-libdir && mkdir HiCBricks.buildbin-libdir && /Users/biocbuild/BBS/utils/build-universal.sh HiCBricks_1.18.0.tar.gz /Library/Frameworks/R.framework/Resources/bin/R HiCBricks.buildbin-libdir StartedAt: 2023-10-16 09:32:47 -0400 (Mon, 16 Oct 2023) EndedAt: 2023-10-16 09:33:52 -0400 (Mon, 16 Oct 2023) EllapsedTime: 64.8 seconds RetCode: 0 Status: OK PackageFile: HiCBricks_1.18.0.tgz PackageFileSize: 5.569 MiB