Package: Herper Version: 1.10.1 Command: chmod a+r Herper -R && F:\biocbuild\bbs-3.17-bioc\R\bin\R.exe CMD build --keep-empty-dirs --no-resave-data Herper StartedAt: 2023-10-15 19:48:01 -0400 (Sun, 15 Oct 2023) EndedAt: 2023-10-15 19:48:15 -0400 (Sun, 15 Oct 2023) EllapsedTime: 14.3 seconds RetCode: 0 Status: OK PackageFile: Herper_1.10.1.tar.gz PackageFileSize: 407.8 KiB