Package: Herper Version: 1.10.1 Command: /Library/Frameworks/R.framework/Resources/bin/R CMD INSTALL Herper StartedAt: 2023-10-15 15:09:47 -0400 (Sun, 15 Oct 2023) EndedAt: 2023-10-15 15:10:28 -0400 (Sun, 15 Oct 2023) EllapsedTime: 40.7 seconds RetCode: 0 Status: OK