Package: Herper Version: 1.10.1 Command: /Library/Frameworks/R.framework/Resources/bin/R CMD check --install=check:Herper.install-out.txt --library=/Library/Frameworks/R.framework/Resources/library --no-vignettes --timings Herper_1.10.1.tar.gz StartedAt: 2023-10-16 02:34:58 -0400 (Mon, 16 Oct 2023) EndedAt: 2023-10-16 02:39:20 -0400 (Mon, 16 Oct 2023) EllapsedTime: 262.3 seconds RetCode: 0 Status: OK CheckDir: Herper.Rcheck Warnings: 0